BEGIN:VCALENDAR
VERSION:2.0
PRODID:-//First Coleraine Presbyterian - ECPv6.0.5//NONSGML v1.0//EN
CALSCALE:GREGORIAN
METHOD:PUBLISH
X-ORIGINAL-URL:https://firstcoleraine.org
X-WR-CALDESC:Events for First Coleraine Presbyterian
REFRESH-INTERVAL;VALUE=DURATION:PT1H
X-Robots-Tag:noindex
X-PUBLISHED-TTL:PT1H
BEGIN:VTIMEZONE
TZID:Europe/London
BEGIN:DAYLIGHT
TZOFFSETFROM:+0000
TZOFFSETTO:+0100
TZNAME:BST
DTSTART:20260329T010000
END:DAYLIGHT
BEGIN:STANDARD
TZOFFSETFROM:+0100
TZOFFSETTO:+0000
TZNAME:GMT
DTSTART:20261025T010000
END:STANDARD
END:VTIMEZONE
BEGIN:VEVENT
DTSTART;TZID=Europe/London:20260125T110000
DTEND;TZID=Europe/London:20260125T120000
DTSTAMP:20260421T222614
CREATED:20260117T112410Z
LAST-MODIFIED:20260117T112410Z
UID:7751-1769338800-1769342400@firstcoleraine.org
SUMMARY:Sunday Morning Worship
DESCRIPTION:
URL:https://firstcoleraine.org/event/sunday-morning-worship-92/
LOCATION:First Coleraine Presbyterian Church\, ABBEY STREET\, COLERAINE\, LONDONDERRY\, BT52 1EX
END:VEVENT
BEGIN:VEVENT
DTSTART;TZID=Europe/London:20260125T183000
DTEND;TZID=Europe/London:20260125T200000
DTSTAMP:20260421T222614
CREATED:20260116T115859Z
LAST-MODIFIED:20260116T115859Z
UID:7749-1769365800-1769371200@firstcoleraine.org
SUMMARY:Women's Ministry
DESCRIPTION:
URL:https://firstcoleraine.org/event/womens-ministry/
LOCATION:First Coleraine Presbyterian Church\, ABBEY STREET\, COLERAINE\, LONDONDERRY\, BT52 1EX
END:VEVENT
END:VCALENDAR