BEGIN:VCALENDAR
VERSION:2.0
PRODID:-//First Coleraine Presbyterian - ECPv6.0.5//NONSGML v1.0//EN
CALSCALE:GREGORIAN
METHOD:PUBLISH
X-WR-CALNAME:First Coleraine Presbyterian
X-ORIGINAL-URL:https://firstcoleraine.org
X-WR-CALDESC:Events for First Coleraine Presbyterian
REFRESH-INTERVAL;VALUE=DURATION:PT1H
X-Robots-Tag:noindex
X-PUBLISHED-TTL:PT1H
BEGIN:VTIMEZONE
TZID:Europe/London
BEGIN:DAYLIGHT
TZOFFSETFROM:+0000
TZOFFSETTO:+0100
TZNAME:BST
DTSTART:20260329T010000
END:DAYLIGHT
BEGIN:STANDARD
TZOFFSETFROM:+0100
TZOFFSETTO:+0000
TZNAME:GMT
DTSTART:20261025T010000
END:STANDARD
END:VTIMEZONE
BEGIN:VEVENT
DTSTART;TZID=Europe/London:20260413T200000
DTEND;TZID=Europe/London:20260413T210000
DTSTAMP:20260421T175304
CREATED:20260410T111216Z
LAST-MODIFIED:20260410T111216Z
UID:8034-1776110400-1776114000@firstcoleraine.org
SUMMARY:First Football
DESCRIPTION:
URL:https://firstcoleraine.org/event/first-football-17/
LOCATION:Score\, Coleraine
END:VEVENT
END:VCALENDAR