BEGIN:VCALENDAR
VERSION:2.0
PRODID:-//First Coleraine Presbyterian - ECPv6.0.5//NONSGML v1.0//EN
CALSCALE:GREGORIAN
METHOD:PUBLISH
X-WR-CALNAME:First Coleraine Presbyterian
X-ORIGINAL-URL:https://firstcoleraine.org
X-WR-CALDESC:Events for First Coleraine Presbyterian
REFRESH-INTERVAL;VALUE=DURATION:PT1H
X-Robots-Tag:noindex
X-PUBLISHED-TTL:PT1H
BEGIN:VTIMEZONE
TZID:Europe/London
BEGIN:DAYLIGHT
TZOFFSETFROM:+0000
TZOFFSETTO:+0100
TZNAME:BST
DTSTART:20260329T010000
END:DAYLIGHT
BEGIN:STANDARD
TZOFFSETFROM:+0100
TZOFFSETTO:+0000
TZNAME:GMT
DTSTART:20261025T010000
END:STANDARD
END:VTIMEZONE
BEGIN:VEVENT
DTSTART;TZID=Europe/London:20260415T190000
DTEND;TZID=Europe/London:20260415T203000
DTSTAMP:20260421T175304
CREATED:20260410T111319Z
LAST-MODIFIED:20260410T111319Z
UID:8036-1776279600-1776285000@firstcoleraine.org
SUMMARY:Youth Midweek
DESCRIPTION:
URL:https://firstcoleraine.org/event/youth-midweek-24/
LOCATION:First Coleraine Presbyterian Church\, ABBEY STREET\, COLERAINE\, LONDONDERRY\, BT52 1EX
END:VEVENT
BEGIN:VEVENT
DTSTART;TZID=Europe/London:20260415T200000
DTEND;TZID=Europe/London:20260415T210000
DTSTAMP:20260421T175304
CREATED:20260403T110338Z
LAST-MODIFIED:20260410T111011Z
UID:8016-1776283200-1776286800@firstcoleraine.org
SUMMARY:Walk & Talk
DESCRIPTION:
URL:https://firstcoleraine.org/event/walk-talk/
LOCATION:First Coleraine Presbyterian Church\, ABBEY STREET\, COLERAINE\, LONDONDERRY\, BT52 1EX
END:VEVENT
END:VCALENDAR