BEGIN:VCALENDAR
VERSION:2.0
PRODID:-//First Coleraine Presbyterian - ECPv6.0.5//NONSGML v1.0//EN
CALSCALE:GREGORIAN
METHOD:PUBLISH
X-ORIGINAL-URL:https://firstcoleraine.org
X-WR-CALDESC:Events for First Coleraine Presbyterian
REFRESH-INTERVAL;VALUE=DURATION:PT1H
X-Robots-Tag:noindex
X-PUBLISHED-TTL:PT1H
BEGIN:VTIMEZONE
TZID:Europe/London
BEGIN:DAYLIGHT
TZOFFSETFROM:+0000
TZOFFSETTO:+0100
TZNAME:BST
DTSTART:20260329T010000
END:DAYLIGHT
BEGIN:STANDARD
TZOFFSETFROM:+0100
TZOFFSETTO:+0000
TZNAME:GMT
DTSTART:20261025T010000
END:STANDARD
END:VTIMEZONE
BEGIN:VEVENT
DTSTART;TZID=Europe/London:20260417T100000
DTEND;TZID=Europe/London:20260417T130000
DTSTAMP:20260421T175303
CREATED:20260410T111607Z
LAST-MODIFIED:20260410T111607Z
UID:8040-1776420000-1776430800@firstcoleraine.org
SUMMARY:First For Men
DESCRIPTION:
URL:https://firstcoleraine.org/event/first-for-men-9/
LOCATION:First Coleraine Presbyterian Church\, ABBEY STREET\, COLERAINE\, LONDONDERRY\, BT52 1EX
END:VEVENT
BEGIN:VEVENT
DTSTART;TZID=Europe/London:20260417T103000
DTEND;TZID=Europe/London:20260417T120000
DTSTAMP:20260421T175303
CREATED:20260403T110436Z
LAST-MODIFIED:20260403T110436Z
UID:8018-1776421800-1776427200@firstcoleraine.org
SUMMARY:Sparrows
DESCRIPTION:
URL:https://firstcoleraine.org/event/sparrows-64/
LOCATION:First Coleraine Presbyterian Church\, ABBEY STREET\, COLERAINE\, LONDONDERRY\, BT52 1EX
END:VEVENT
END:VCALENDAR