BEGIN:VCALENDAR
VERSION:2.0
PRODID:-//First Coleraine Presbyterian - ECPv6.0.5//NONSGML v1.0//EN
CALSCALE:GREGORIAN
METHOD:PUBLISH
X-ORIGINAL-URL:https://firstcoleraine.org
X-WR-CALDESC:Events for First Coleraine Presbyterian
REFRESH-INTERVAL;VALUE=DURATION:PT1H
X-Robots-Tag:noindex
X-PUBLISHED-TTL:PT1H
BEGIN:VTIMEZONE
TZID:Europe/London
BEGIN:DAYLIGHT
TZOFFSETFROM:+0000
TZOFFSETTO:+0100
TZNAME:BST
DTSTART:20260329T010000
END:DAYLIGHT
BEGIN:STANDARD
TZOFFSETFROM:+0100
TZOFFSETTO:+0000
TZNAME:GMT
DTSTART:20261025T010000
END:STANDARD
END:VTIMEZONE
BEGIN:VEVENT
DTSTART;TZID=Europe/London:20260422T190000
DTEND;TZID=Europe/London:20260422T203000
DTSTAMP:20260421T175356
CREATED:20260417T105427Z
LAST-MODIFIED:20260417T105427Z
UID:8056-1776884400-1776889800@firstcoleraine.org
SUMMARY:Youth Midweek
DESCRIPTION:
URL:https://firstcoleraine.org/event/youth-midweek-25/
LOCATION:First Coleraine Presbyterian Church\, ABBEY STREET\, COLERAINE\, LONDONDERRY\, BT52 1EX
END:VEVENT
BEGIN:VEVENT
DTSTART;TZID=Europe/London:20260422T200000
DTEND;TZID=Europe/London:20260422T210000
DTSTAMP:20260421T175356
CREATED:20260417T105553Z
LAST-MODIFIED:20260417T105805Z
UID:8058-1776888000-1776891600@firstcoleraine.org
SUMMARY:Walk and Talk
DESCRIPTION:
URL:https://firstcoleraine.org/event/walk-and-talk/
LOCATION:First Coleraine Presbyterian Church\, ABBEY STREET\, COLERAINE\, LONDONDERRY\, BT52 1EX
END:VEVENT
END:VCALENDAR