BEGIN:VCALENDAR
VERSION:2.0
PRODID:-//First Coleraine Presbyterian - ECPv6.0.5//NONSGML v1.0//EN
CALSCALE:GREGORIAN
METHOD:PUBLISH
X-WR-CALNAME:First Coleraine Presbyterian
X-ORIGINAL-URL:https://firstcoleraine.org
X-WR-CALDESC:Events for First Coleraine Presbyterian
REFRESH-INTERVAL;VALUE=DURATION:PT1H
X-Robots-Tag:noindex
X-PUBLISHED-TTL:PT1H
BEGIN:VTIMEZONE
TZID:Europe/London
BEGIN:DAYLIGHT
TZOFFSETFROM:+0000
TZOFFSETTO:+0100
TZNAME:BST
DTSTART:20260329T010000
END:DAYLIGHT
BEGIN:STANDARD
TZOFFSETFROM:+0100
TZOFFSETTO:+0000
TZNAME:GMT
DTSTART:20261025T010000
END:STANDARD
END:VTIMEZONE
BEGIN:VEVENT
DTSTART;TZID=Europe/London:20260203T101500
DTEND;TZID=Europe/London:20260203T113000
DTSTAMP:20260422T013745
CREATED:20260130T114551Z
LAST-MODIFIED:20260130T114551Z
UID:7795-1770113700-1770118200@firstcoleraine.org
SUMMARY:First Fellowship
DESCRIPTION:
URL:https://firstcoleraine.org/event/first-fellowship-75/
LOCATION:First Coleraine Presbyterian Church\, ABBEY STREET\, COLERAINE\, LONDONDERRY\, BT52 1EX
END:VEVENT
BEGIN:VEVENT
DTSTART;TZID=Europe/London:20260202T200000
DTEND;TZID=Europe/London:20260202T210000
DTSTAMP:20260422T013745
CREATED:20260130T114236Z
LAST-MODIFIED:20260130T114426Z
UID:7793-1770062400-1770066000@firstcoleraine.org
SUMMARY:Five-a-side Football
DESCRIPTION:
URL:https://firstcoleraine.org/event/five-a-side-football-6/
LOCATION:First Coleraine Presbyterian Church\, ABBEY STREET\, COLERAINE\, LONDONDERRY\, BT52 1EX
END:VEVENT
BEGIN:VEVENT
DTSTART;TZID=Europe/London:20260202T193000
DTEND;TZID=Europe/London:20260202T210000
DTSTAMP:20260422T013745
CREATED:20260117T113810Z
LAST-MODIFIED:20260117T114025Z
UID:7769-1770060600-1770066000@firstcoleraine.org
SUMMARY:PW
DESCRIPTION:
URL:https://firstcoleraine.org/event/pw-26/
LOCATION:First Coleraine Presbyterian Church\, ABBEY STREET\, COLERAINE\, LONDONDERRY\, BT52 1EX
END:VEVENT
BEGIN:VEVENT
DTSTART;TZID=Europe/London:20260202T190000
DTEND;TZID=Europe/London:20260202T210000
DTSTAMP:20260422T013745
CREATED:20260226T112101Z
LAST-MODIFIED:20260226T112101Z
UID:7902-1770058800-1770066000@firstcoleraine.org
SUMMARY:Bowling Club
DESCRIPTION:
URL:https://firstcoleraine.org/event/bowling-club-48/
LOCATION:First Coleraine Presbyterian Church\, ABBEY STREET\, COLERAINE\, LONDONDERRY\, BT52 1EX
END:VEVENT
BEGIN:VEVENT
DTSTART;TZID=Europe/London:20260202T190000
DTEND;TZID=Europe/London:20260202T210000
DTSTAMP:20260422T013745
CREATED:20260130T114059Z
LAST-MODIFIED:20260130T114059Z
UID:7791-1770058800-1770066000@firstcoleraine.org
SUMMARY:Bowling Club
DESCRIPTION:
URL:https://firstcoleraine.org/event/bowling-club-45/
LOCATION:First Coleraine Presbyterian Church\, ABBEY STREET\, COLERAINE\, LONDONDERRY\, BT52 1EX
END:VEVENT
BEGIN:VEVENT
DTSTART;TZID=Europe/London:20260201T110000
DTEND;TZID=Europe/London:20260201T120000
DTSTAMP:20260422T013745
CREATED:20260130T113658Z
LAST-MODIFIED:20260130T113658Z
UID:7789-1769943600-1769947200@firstcoleraine.org
SUMMARY:Sunday Morning Worship
DESCRIPTION:
URL:https://firstcoleraine.org/event/sunday-morning-worship-93/
LOCATION:First Coleraine Presbyterian Church\, ABBEY STREET\, COLERAINE\, LONDONDERRY\, BT52 1EX
END:VEVENT
BEGIN:VEVENT
DTSTART;TZID=Europe/London:20260130T080000
DTEND;TZID=Europe/London:20260130T200000
DTSTAMP:20260422T013745
CREATED:20260117T113635Z
LAST-MODIFIED:20260117T113635Z
UID:7767-1769760000-1769803200@firstcoleraine.org
SUMMARY:Day of Prayer and Fasting
DESCRIPTION:
URL:https://firstcoleraine.org/event/day-of-prayer-and-fasting-35/
LOCATION:First Coleraine Presbyterian Church\, ABBEY STREET\, COLERAINE\, LONDONDERRY\, BT52 1EX
END:VEVENT
BEGIN:VEVENT
DTSTART;TZID=Europe/London:20260129T100000
DTEND;TZID=Europe/London:20260129T113000
DTSTAMP:20260422T013745
CREATED:20260117T113517Z
LAST-MODIFIED:20260117T113517Z
UID:7765-1769680800-1769686200@firstcoleraine.org
SUMMARY:Toddlers Inn
DESCRIPTION:
URL:https://firstcoleraine.org/event/toddlers-inn-132/
LOCATION:First Coleraine Presbyterian Church\, ABBEY STREET\, COLERAINE\, LONDONDERRY\, BT52 1EX
END:VEVENT
BEGIN:VEVENT
DTSTART;TZID=Europe/London:20260128T200000
DTEND;TZID=Europe/London:20260128T210000
DTSTAMP:20260422T013745
CREATED:20260117T113115Z
LAST-MODIFIED:20260117T113115Z
UID:7763-1769630400-1769634000@firstcoleraine.org
SUMMARY:Life Builders
DESCRIPTION:
URL:https://firstcoleraine.org/event/life-builders-13/
LOCATION:First Coleraine Presbyterian Church\, ABBEY STREET\, COLERAINE\, LONDONDERRY\, BT52 1EX
END:VEVENT
BEGIN:VEVENT
DTSTART;TZID=Europe/London:20260128T190000
DTEND;TZID=Europe/London:20260128T203000
DTSTAMP:20260422T013745
CREATED:20260117T113019Z
LAST-MODIFIED:20260117T113019Z
UID:7761-1769626800-1769632200@firstcoleraine.org
SUMMARY:Youth Midweek
DESCRIPTION:
URL:https://firstcoleraine.org/event/youth-midweek-20/
LOCATION:First Coleraine Presbyterian Church\, ABBEY STREET\, COLERAINE\, LONDONDERRY\, BT52 1EX
END:VEVENT
BEGIN:VEVENT
DTSTART;TZID=Europe/London:20260127T200000
DTEND;TZID=Europe/London:20260127T213000
DTSTAMP:20260422T013745
CREATED:20260117T112920Z
LAST-MODIFIED:20260117T112920Z
UID:7759-1769544000-1769549400@firstcoleraine.org
SUMMARY:Church Committee
DESCRIPTION:
URL:https://firstcoleraine.org/event/church-committee-13/
LOCATION:First Coleraine Presbyterian Church\, ABBEY STREET\, COLERAINE\, LONDONDERRY\, BT52 1EX
END:VEVENT
BEGIN:VEVENT
DTSTART;TZID=Europe/London:20260127T101500
DTEND;TZID=Europe/London:20260127T113000
DTSTAMP:20260422T013745
CREATED:20260117T112815Z
LAST-MODIFIED:20260117T112815Z
UID:7757-1769508900-1769513400@firstcoleraine.org
SUMMARY:First Fellowship
DESCRIPTION:
URL:https://firstcoleraine.org/event/first-fellowship-74/
LOCATION:First Coleraine Presbyterian Church\, ABBEY STREET\, COLERAINE\, LONDONDERRY\, BT52 1EX
END:VEVENT
BEGIN:VEVENT
DTSTART;TZID=Europe/London:20260126T200000
DTEND;TZID=Europe/London:20260126T210000
DTSTAMP:20260422T013745
CREATED:20260117T112709Z
LAST-MODIFIED:20260117T112709Z
UID:7755-1769457600-1769461200@firstcoleraine.org
SUMMARY:Five-a-Side Football
DESCRIPTION:
URL:https://firstcoleraine.org/event/five-a-side-football-5/
LOCATION:Score\, Coleraine
END:VEVENT
BEGIN:VEVENT
DTSTART;TZID=Europe/London:20260126T190000
DTEND;TZID=Europe/London:20260126T210000
DTSTAMP:20260422T013745
CREATED:20260117T112508Z
LAST-MODIFIED:20260117T112508Z
UID:7753-1769454000-1769461200@firstcoleraine.org
SUMMARY:Bowling Club
DESCRIPTION:
URL:https://firstcoleraine.org/event/bowling-club-44/
LOCATION:First Coleraine Presbyterian Church\, ABBEY STREET\, COLERAINE\, LONDONDERRY\, BT52 1EX
END:VEVENT
BEGIN:VEVENT
DTSTART;TZID=Europe/London:20260125T183000
DTEND;TZID=Europe/London:20260125T200000
DTSTAMP:20260422T013745
CREATED:20260116T115859Z
LAST-MODIFIED:20260116T115859Z
UID:7749-1769365800-1769371200@firstcoleraine.org
SUMMARY:Women's Ministry
DESCRIPTION:
URL:https://firstcoleraine.org/event/womens-ministry/
LOCATION:First Coleraine Presbyterian Church\, ABBEY STREET\, COLERAINE\, LONDONDERRY\, BT52 1EX
END:VEVENT
BEGIN:VEVENT
DTSTART;TZID=Europe/London:20260125T110000
DTEND;TZID=Europe/London:20260125T120000
DTSTAMP:20260422T013745
CREATED:20260117T112410Z
LAST-MODIFIED:20260117T112410Z
UID:7751-1769338800-1769342400@firstcoleraine.org
SUMMARY:Sunday Morning Worship
DESCRIPTION:
URL:https://firstcoleraine.org/event/sunday-morning-worship-92/
LOCATION:First Coleraine Presbyterian Church\, ABBEY STREET\, COLERAINE\, LONDONDERRY\, BT52 1EX
END:VEVENT
BEGIN:VEVENT
DTSTART;TZID=Europe/London:20260123T183000
DTEND;TZID=Europe/London:20260123T220000
DTSTAMP:20260422T013745
CREATED:20260116T115700Z
LAST-MODIFIED:20260116T115700Z
UID:7747-1769193000-1769205600@firstcoleraine.org
SUMMARY:Boys Brigade
DESCRIPTION:
URL:https://firstcoleraine.org/event/boys-brigade-79/
LOCATION:First Coleraine Presbyterian Church\, ABBEY STREET\, COLERAINE\, LONDONDERRY\, BT52 1EX
END:VEVENT
BEGIN:VEVENT
DTSTART;TZID=Europe/London:20260123T103000
DTEND;TZID=Europe/London:20260123T120000
DTSTAMP:20260422T013745
CREATED:20260116T115541Z
LAST-MODIFIED:20260116T115541Z
UID:7745-1769164200-1769169600@firstcoleraine.org
SUMMARY:Sparrows
DESCRIPTION:
URL:https://firstcoleraine.org/event/sparrows-60/
LOCATION:First Coleraine Presbyterian Church\, ABBEY STREET\, COLERAINE\, LONDONDERRY\, BT52 1EX
END:VEVENT
BEGIN:VEVENT
DTSTART;TZID=Europe/London:20260122T100000
DTEND;TZID=Europe/London:20260122T113000
DTSTAMP:20260422T013745
CREATED:20260116T115437Z
LAST-MODIFIED:20260116T115437Z
UID:7743-1769076000-1769081400@firstcoleraine.org
SUMMARY:Toddlers Inn
DESCRIPTION:
URL:https://firstcoleraine.org/event/toddlers-inn-131/
LOCATION:First Coleraine Presbyterian Church\, ABBEY STREET\, COLERAINE\, LONDONDERRY\, BT52 1EX
END:VEVENT
BEGIN:VEVENT
DTSTART;TZID=Europe/London:20260121T200000
DTEND;TZID=Europe/London:20260121T213000
DTSTAMP:20260422T013745
CREATED:20260116T115231Z
LAST-MODIFIED:20260116T115231Z
UID:7741-1769025600-1769031000@firstcoleraine.org
SUMMARY:Home Groups
DESCRIPTION:
URL:https://firstcoleraine.org/event/home-groups-23/
LOCATION:First Coleraine Presbyterian Church\, ABBEY STREET\, COLERAINE\, LONDONDERRY\, BT52 1EX
END:VEVENT
BEGIN:VEVENT
DTSTART;TZID=Europe/London:20260121T190000
DTEND;TZID=Europe/London:20260121T203000
DTSTAMP:20260422T013745
CREATED:20260116T115033Z
LAST-MODIFIED:20260116T115033Z
UID:7739-1769022000-1769027400@firstcoleraine.org
SUMMARY:Youth Midweek
DESCRIPTION:
URL:https://firstcoleraine.org/event/youth-midweek-19/
LOCATION:First Coleraine Presbyterian Church\, ABBEY STREET\, COLERAINE\, LONDONDERRY\, BT52 1EX
END:VEVENT
BEGIN:VEVENT
DTSTART;TZID=Europe/London:20260121T103000
DTEND;TZID=Europe/London:20260121T120000
DTSTAMP:20260422T013745
CREATED:20260116T114752Z
LAST-MODIFIED:20260116T114752Z
UID:7737-1768991400-1768996800@firstcoleraine.org
SUMMARY:Wednesday Morning Bible Study
DESCRIPTION:
URL:https://firstcoleraine.org/event/wednesday-morning-bible-study/
LOCATION:First Coleraine Presbyterian Church\, ABBEY STREET\, COLERAINE\, LONDONDERRY\, BT52 1EX
END:VEVENT
BEGIN:VEVENT
DTSTART;TZID=Europe/London:20260120T101500
DTEND;TZID=Europe/London:20260120T113000
DTSTAMP:20260422T013745
CREATED:20260116T114526Z
LAST-MODIFIED:20260116T114526Z
UID:7735-1768904100-1768908600@firstcoleraine.org
SUMMARY:First Fellowship
DESCRIPTION:
URL:https://firstcoleraine.org/event/first-fellowship-73/
LOCATION:First Coleraine Presbyterian Church\, ABBEY STREET\, COLERAINE\, LONDONDERRY\, BT52 1EX
END:VEVENT
BEGIN:VEVENT
DTSTART;TZID=Europe/London:20260119T200000
DTEND;TZID=Europe/London:20260119T210000
DTSTAMP:20260422T013745
CREATED:20260116T114219Z
LAST-MODIFIED:20260116T114219Z
UID:7733-1768852800-1768856400@firstcoleraine.org
SUMMARY:First Football
DESCRIPTION:
URL:https://firstcoleraine.org/event/first-football-15/
LOCATION:First Coleraine Presbyterian Church\, ABBEY STREET\, COLERAINE\, LONDONDERRY\, BT52 1EX
END:VEVENT
BEGIN:VEVENT
DTSTART;TZID=Europe/London:20260119T190000
DTEND;TZID=Europe/London:20260119T210000
DTSTAMP:20260422T013745
CREATED:20260116T114058Z
LAST-MODIFIED:20260116T114058Z
UID:7731-1768849200-1768856400@firstcoleraine.org
SUMMARY:Bowling Club
DESCRIPTION:
URL:https://firstcoleraine.org/event/bowling-club-43/
LOCATION:First Coleraine Presbyterian Church\, ABBEY STREET\, COLERAINE\, LONDONDERRY\, BT52 1EX
END:VEVENT
BEGIN:VEVENT
DTSTART;TZID=Europe/London:20260118T110000
DTEND;TZID=Europe/London:20260118T120000
DTSTAMP:20260422T013745
CREATED:20260116T112816Z
LAST-MODIFIED:20260116T112816Z
UID:7728-1768734000-1768737600@firstcoleraine.org
SUMMARY:Sunday Morning Worship
DESCRIPTION:
URL:https://firstcoleraine.org/event/sunday-morning-worship-91/
LOCATION:First Coleraine Presbyterian Church\, ABBEY STREET\, COLERAINE\, LONDONDERRY\, BT52 1EX
END:VEVENT
BEGIN:VEVENT
DTSTART;TZID=Europe/London:20260116T183000
DTEND;TZID=Europe/London:20260116T220000
DTSTAMP:20260422T013745
CREATED:20260116T112711Z
LAST-MODIFIED:20260116T112711Z
UID:7726-1768588200-1768600800@firstcoleraine.org
SUMMARY:Boys Brigade
DESCRIPTION:
URL:https://firstcoleraine.org/event/boys-brigade-78/
LOCATION:First Coleraine Presbyterian Church\, ABBEY STREET\, COLERAINE\, LONDONDERRY\, BT52 1EX
END:VEVENT
BEGIN:VEVENT
DTSTART;TZID=Europe/London:20260116T093000
DTEND;TZID=Europe/London:20260116T103000
DTSTAMP:20260422T013745
CREATED:20260109T120348Z
LAST-MODIFIED:20260109T120348Z
UID:7713-1768555800-1768559400@firstcoleraine.org
SUMMARY:First for Men
DESCRIPTION:
URL:https://firstcoleraine.org/event/first-for-men-7/
LOCATION:Lodge Hotel\, Coleraine\, Coleraine\, BT52 1NF
END:VEVENT
BEGIN:VEVENT
DTSTART;TZID=Europe/London:20260115T100000
DTEND;TZID=Europe/London:20260115T113000
DTSTAMP:20260422T013745
CREATED:20260109T120235Z
LAST-MODIFIED:20260109T120235Z
UID:7711-1768471200-1768476600@firstcoleraine.org
SUMMARY:Toddlers Inn
DESCRIPTION:
URL:https://firstcoleraine.org/event/toddlers-inn-130/
LOCATION:LONDONDERRY
END:VEVENT
BEGIN:VEVENT
DTSTART;TZID=Europe/London:20260114T200000
DTEND;TZID=Europe/London:20260114T210000
DTSTAMP:20260422T013745
CREATED:20260109T120129Z
LAST-MODIFIED:20260109T120129Z
UID:7709-1768420800-1768424400@firstcoleraine.org
SUMMARY:Life Builders
DESCRIPTION:
URL:https://firstcoleraine.org/event/life-builders-12/
LOCATION:First Coleraine Presbyterian Church\, ABBEY STREET\, COLERAINE\, LONDONDERRY\, BT52 1EX
END:VEVENT
END:VCALENDAR