BEGIN:VCALENDAR
VERSION:2.0
PRODID:-//First Coleraine Presbyterian - ECPv6.0.5//NONSGML v1.0//EN
CALSCALE:GREGORIAN
METHOD:PUBLISH
X-WR-CALNAME:First Coleraine Presbyterian
X-ORIGINAL-URL:https://firstcoleraine.org
X-WR-CALDESC:Events for First Coleraine Presbyterian
REFRESH-INTERVAL;VALUE=DURATION:PT1H
X-Robots-Tag:noindex
X-PUBLISHED-TTL:PT1H
BEGIN:VTIMEZONE
TZID:Europe/London
BEGIN:DAYLIGHT
TZOFFSETFROM:+0000
TZOFFSETTO:+0100
TZNAME:BST
DTSTART:20260329T010000
END:DAYLIGHT
BEGIN:STANDARD
TZOFFSETFROM:+0100
TZOFFSETTO:+0000
TZNAME:GMT
DTSTART:20261025T010000
END:STANDARD
END:VTIMEZONE
BEGIN:VEVENT
DTSTART;TZID=Europe/London:20260220T103000
DTEND;TZID=Europe/London:20260220T120000
DTSTAMP:20260422T024903
CREATED:20260213T120437Z
LAST-MODIFIED:20260213T120437Z
UID:7864-1771583400-1771588800@firstcoleraine.org
SUMMARY:Sparrows
DESCRIPTION:
URL:https://firstcoleraine.org/event/sparrows-62/
LOCATION:First Coleraine Presbyterian Church\, ABBEY STREET\, COLERAINE\, LONDONDERRY\, BT52 1EX
END:VEVENT
BEGIN:VEVENT
DTSTART;TZID=Europe/London:20260220T103000
DTEND;TZID=Europe/London:20260220T120000
DTSTAMP:20260422T024903
CREATED:20260206T112804Z
LAST-MODIFIED:20260206T112804Z
UID:7827-1771583400-1771588800@firstcoleraine.org
SUMMARY:First for Men
DESCRIPTION:
URL:https://firstcoleraine.org/event/first-for-men-8/
LOCATION:First Coleraine Presbyterian Church\, ABBEY STREET\, COLERAINE\, LONDONDERRY\, BT52 1EX
END:VEVENT
BEGIN:VEVENT
DTSTART;TZID=Europe/London:20260219T100000
DTEND;TZID=Europe/London:20260219T113000
DTSTAMP:20260422T024903
CREATED:20260213T120241Z
LAST-MODIFIED:20260213T120241Z
UID:7861-1771495200-1771500600@firstcoleraine.org
SUMMARY:Toddlers Inn
DESCRIPTION:
URL:https://firstcoleraine.org/event/toddlers-inn-135/
LOCATION:First Coleraine Presbyterian Church\, ABBEY STREET\, COLERAINE\, LONDONDERRY\, BT52 1EX
END:VEVENT
BEGIN:VEVENT
DTSTART;TZID=Europe/London:20260218T200000
DTEND;TZID=Europe/London:20260218T213000
DTSTAMP:20260422T024903
CREATED:20260213T120108Z
LAST-MODIFIED:20260213T120325Z
UID:7859-1771444800-1771450200@firstcoleraine.org
SUMMARY:Home Groups
DESCRIPTION:
URL:https://firstcoleraine.org/event/home-groups-25/
LOCATION:First Coleraine Presbyterian Church\, ABBEY STREET\, COLERAINE\, LONDONDERRY\, BT52 1EX
END:VEVENT
BEGIN:VEVENT
DTSTART;TZID=Europe/London:20260218T103000
DTEND;TZID=Europe/London:20260218T113000
DTSTAMP:20260422T024903
CREATED:20260213T120007Z
LAST-MODIFIED:20260213T120007Z
UID:7857-1771410600-1771414200@firstcoleraine.org
SUMMARY:Wednesday Morning Bible Study
DESCRIPTION:
URL:https://firstcoleraine.org/event/wednesday-morning-bible-study-3/
LOCATION:First Coleraine Presbyterian Church\, ABBEY STREET\, COLERAINE\, LONDONDERRY\, BT52 1EX
END:VEVENT
BEGIN:VEVENT
DTSTART;TZID=Europe/London:20260217T101500
DTEND;TZID=Europe/London:20260217T113000
DTSTAMP:20260422T024903
CREATED:20260213T115807Z
LAST-MODIFIED:20260213T115807Z
UID:7855-1771323300-1771327800@firstcoleraine.org
SUMMARY:First  Fellowship
DESCRIPTION:
URL:https://firstcoleraine.org/event/first-fellowship-77/
LOCATION:First Coleraine Presbyterian Church\, ABBEY STREET\, COLERAINE\, LONDONDERRY\, BT52 1EX
END:VEVENT
BEGIN:VEVENT
DTSTART;TZID=Europe/London:20260213T183000
DTEND;TZID=Europe/London:20260213T213000
DTSTAMP:20260422T024903
CREATED:20260206T112903Z
LAST-MODIFIED:20260206T112903Z
UID:7829-1771007400-1771018200@firstcoleraine.org
SUMMARY:BB
DESCRIPTION:
URL:https://firstcoleraine.org/event/bb/
LOCATION:First Coleraine Presbyterian Church\, ABBEY STREET\, COLERAINE\, LONDONDERRY\, BT52 1EX
END:VEVENT
BEGIN:VEVENT
DTSTART;TZID=Europe/London:20260212T100000
DTEND;TZID=Europe/London:20260212T113000
DTSTAMP:20260422T024903
CREATED:20260206T113105Z
LAST-MODIFIED:20260206T113105Z
UID:7833-1770890400-1770895800@firstcoleraine.org
SUMMARY:Toddlers Inn
DESCRIPTION:
URL:https://firstcoleraine.org/event/toddlers-inn-134/
LOCATION:First Coleraine Presbyterian Church\, ABBEY STREET\, COLERAINE\, LONDONDERRY\, BT52 1EX
END:VEVENT
BEGIN:VEVENT
DTSTART;TZID=Europe/London:20260211T200000
DTEND;TZID=Europe/London:20260211T210000
DTSTAMP:20260422T024903
CREATED:20260206T113307Z
LAST-MODIFIED:20260206T113307Z
UID:7835-1770840000-1770843600@firstcoleraine.org
SUMMARY:Home Groups/Lifebuilders
DESCRIPTION:
URL:https://firstcoleraine.org/event/home-groups-lifebuilders/
LOCATION:First Coleraine Presbyterian Church\, ABBEY STREET\, COLERAINE\, LONDONDERRY\, BT52 1EX
END:VEVENT
BEGIN:VEVENT
DTSTART;TZID=Europe/London:20260210T101500
DTEND;TZID=Europe/London:20260210T120000
DTSTAMP:20260422T024903
CREATED:20260206T112959Z
LAST-MODIFIED:20260206T112959Z
UID:7831-1770718500-1770724800@firstcoleraine.org
SUMMARY:First Fellowship
DESCRIPTION:
URL:https://firstcoleraine.org/event/first-fellowship-76/
LOCATION:First Coleraine Presbyterian Church\, ABBEY STREET\, COLERAINE\, LONDONDERRY\, BT52 1EX
END:VEVENT
BEGIN:VEVENT
DTSTART;TZID=Europe/London:20260209T200000
DTEND;TZID=Europe/London:20260209T210000
DTSTAMP:20260422T024903
CREATED:20260206T112558Z
LAST-MODIFIED:20260206T112558Z
UID:7825-1770667200-1770670800@firstcoleraine.org
SUMMARY:Five-a-Side Football
DESCRIPTION:
URL:https://firstcoleraine.org/event/five-a-side-football-7/
LOCATION:First Coleraine Presbyterian Church\, ABBEY STREET\, COLERAINE\, LONDONDERRY\, BT52 1EX
END:VEVENT
BEGIN:VEVENT
DTSTART;TZID=Europe/London:20260209T190000
DTEND;TZID=Europe/London:20260209T210000
DTSTAMP:20260422T024903
CREATED:20260206T112449Z
LAST-MODIFIED:20260206T112449Z
UID:7823-1770663600-1770670800@firstcoleraine.org
SUMMARY:Bowling Club
DESCRIPTION:
URL:https://firstcoleraine.org/event/bowling-club-46/
LOCATION:First Coleraine Presbyterian Church\, ABBEY STREET\, COLERAINE\, LONDONDERRY\, BT52 1EX
END:VEVENT
BEGIN:VEVENT
DTSTART;TZID=Europe/London:20260208T110000
DTEND;TZID=Europe/London:20260208T120000
DTSTAMP:20260422T024903
CREATED:20260206T112143Z
LAST-MODIFIED:20260206T112143Z
UID:7821-1770548400-1770552000@firstcoleraine.org
SUMMARY:Sunday Worship
DESCRIPTION:
URL:https://firstcoleraine.org/event/sunday-worship-3/
LOCATION:First Coleraine Presbyterian Church\, ABBEY STREET\, COLERAINE\, LONDONDERRY\, BT52 1EX
END:VEVENT
BEGIN:VEVENT
DTSTART;TZID=Europe/London:20260207T090000
DTEND;TZID=Europe/London:20260207T100000
DTSTAMP:20260422T024903
CREATED:20260130T115617Z
LAST-MODIFIED:20260130T115617Z
UID:7809-1770454800-1770458400@firstcoleraine.org
SUMMARY:Saturday Morning Prayer Time
DESCRIPTION:
URL:https://firstcoleraine.org/event/saturday-morning-prayer-time-7/
LOCATION:First Coleraine Presbyterian Church\, ABBEY STREET\, COLERAINE\, LONDONDERRY\, BT52 1EX
END:VEVENT
BEGIN:VEVENT
DTSTART;TZID=Europe/London:20260206T183000
DTEND;TZID=Europe/London:20260206T213000
DTSTAMP:20260422T024903
CREATED:20260130T115518Z
LAST-MODIFIED:20260130T115518Z
UID:7807-1770402600-1770413400@firstcoleraine.org
SUMMARY:Boys' Brigade
DESCRIPTION:
URL:https://firstcoleraine.org/event/boys-brigade-80/
LOCATION:First Coleraine Presbyterian Church\, ABBEY STREET\, COLERAINE\, LONDONDERRY\, BT52 1EX
END:VEVENT
BEGIN:VEVENT
DTSTART;TZID=Europe/London:20260206T103000
DTEND;TZID=Europe/London:20260206T120000
DTSTAMP:20260422T024903
CREATED:20260130T115436Z
LAST-MODIFIED:20260130T115436Z
UID:7805-1770373800-1770379200@firstcoleraine.org
SUMMARY:Sparrows
DESCRIPTION:
URL:https://firstcoleraine.org/event/sparrows-61/
LOCATION:First Coleraine Presbyterian Church\, ABBEY STREET\, COLERAINE\, LONDONDERRY\, BT52 1EX
END:VEVENT
BEGIN:VEVENT
DTSTART;TZID=Europe/London:20260205T100000
DTEND;TZID=Europe/London:20260205T113000
DTSTAMP:20260422T024903
CREATED:20260130T115230Z
LAST-MODIFIED:20260130T115230Z
UID:7803-1770285600-1770291000@firstcoleraine.org
SUMMARY:Toddlers Inn
DESCRIPTION:
URL:https://firstcoleraine.org/event/toddlers-inn-133/
LOCATION:First Coleraine Presbyterian Church\, ABBEY STREET\, COLERAINE\, LONDONDERRY\, BT52 1EX
END:VEVENT
BEGIN:VEVENT
DTSTART;TZID=Europe/London:20260204T200000
DTEND;TZID=Europe/London:20260204T213000
DTSTAMP:20260422T024903
CREATED:20260130T115121Z
LAST-MODIFIED:20260130T115121Z
UID:7801-1770235200-1770240600@firstcoleraine.org
SUMMARY:Home Groups
DESCRIPTION:
URL:https://firstcoleraine.org/event/home-groups-24/
LOCATION:First Coleraine Presbyterian Church\, ABBEY STREET\, COLERAINE\, LONDONDERRY\, BT52 1EX
END:VEVENT
BEGIN:VEVENT
DTSTART;TZID=Europe/London:20260204T190000
DTEND;TZID=Europe/London:20260204T203000
DTSTAMP:20260422T024903
CREATED:20260130T114858Z
LAST-MODIFIED:20260130T114858Z
UID:7799-1770231600-1770237000@firstcoleraine.org
SUMMARY:Youth Midweek
DESCRIPTION:
URL:https://firstcoleraine.org/event/youth-midweek-21/
LOCATION:First Coleraine Presbyterian Church\, ABBEY STREET\, COLERAINE\, LONDONDERRY\, BT52 1EX
END:VEVENT
BEGIN:VEVENT
DTSTART;TZID=Europe/London:20260204T103000
DTEND;TZID=Europe/London:20260204T113000
DTSTAMP:20260422T024903
CREATED:20260130T114806Z
LAST-MODIFIED:20260130T114806Z
UID:7797-1770201000-1770204600@firstcoleraine.org
SUMMARY:Wednesday Morning Bible Study
DESCRIPTION:
URL:https://firstcoleraine.org/event/wednesday-morning-bible-study-2/
LOCATION:First Coleraine Presbyterian Church\, ABBEY STREET\, COLERAINE\, LONDONDERRY\, BT52 1EX
END:VEVENT
BEGIN:VEVENT
DTSTART;TZID=Europe/London:20260203T101500
DTEND;TZID=Europe/London:20260203T113000
DTSTAMP:20260422T024903
CREATED:20260226T112330Z
LAST-MODIFIED:20260226T112330Z
UID:7906-1770113700-1770118200@firstcoleraine.org
SUMMARY:First Fellowship
DESCRIPTION:
URL:https://firstcoleraine.org/event/first-fellowship-79/
LOCATION:First Coleraine Presbyterian Church\, ABBEY STREET\, COLERAINE\, LONDONDERRY\, BT52 1EX
END:VEVENT
BEGIN:VEVENT
DTSTART;TZID=Europe/London:20260203T101500
DTEND;TZID=Europe/London:20260203T113000
DTSTAMP:20260422T024903
CREATED:20260130T114551Z
LAST-MODIFIED:20260130T114551Z
UID:7795-1770113700-1770118200@firstcoleraine.org
SUMMARY:First Fellowship
DESCRIPTION:
URL:https://firstcoleraine.org/event/first-fellowship-75/
LOCATION:First Coleraine Presbyterian Church\, ABBEY STREET\, COLERAINE\, LONDONDERRY\, BT52 1EX
END:VEVENT
BEGIN:VEVENT
DTSTART;TZID=Europe/London:20260202T200000
DTEND;TZID=Europe/London:20260202T210000
DTSTAMP:20260422T024903
CREATED:20260130T114236Z
LAST-MODIFIED:20260130T114426Z
UID:7793-1770062400-1770066000@firstcoleraine.org
SUMMARY:Five-a-side Football
DESCRIPTION:
URL:https://firstcoleraine.org/event/five-a-side-football-6/
LOCATION:First Coleraine Presbyterian Church\, ABBEY STREET\, COLERAINE\, LONDONDERRY\, BT52 1EX
END:VEVENT
BEGIN:VEVENT
DTSTART;TZID=Europe/London:20260202T193000
DTEND;TZID=Europe/London:20260202T210000
DTSTAMP:20260422T024903
CREATED:20260117T113810Z
LAST-MODIFIED:20260117T114025Z
UID:7769-1770060600-1770066000@firstcoleraine.org
SUMMARY:PW
DESCRIPTION:
URL:https://firstcoleraine.org/event/pw-26/
LOCATION:First Coleraine Presbyterian Church\, ABBEY STREET\, COLERAINE\, LONDONDERRY\, BT52 1EX
END:VEVENT
BEGIN:VEVENT
DTSTART;TZID=Europe/London:20260202T190000
DTEND;TZID=Europe/London:20260202T210000
DTSTAMP:20260422T024903
CREATED:20260226T112101Z
LAST-MODIFIED:20260226T112101Z
UID:7902-1770058800-1770066000@firstcoleraine.org
SUMMARY:Bowling Club
DESCRIPTION:
URL:https://firstcoleraine.org/event/bowling-club-48/
LOCATION:First Coleraine Presbyterian Church\, ABBEY STREET\, COLERAINE\, LONDONDERRY\, BT52 1EX
END:VEVENT
BEGIN:VEVENT
DTSTART;TZID=Europe/London:20260202T190000
DTEND;TZID=Europe/London:20260202T210000
DTSTAMP:20260422T024903
CREATED:20260130T114059Z
LAST-MODIFIED:20260130T114059Z
UID:7791-1770058800-1770066000@firstcoleraine.org
SUMMARY:Bowling Club
DESCRIPTION:
URL:https://firstcoleraine.org/event/bowling-club-45/
LOCATION:First Coleraine Presbyterian Church\, ABBEY STREET\, COLERAINE\, LONDONDERRY\, BT52 1EX
END:VEVENT
BEGIN:VEVENT
DTSTART;TZID=Europe/London:20260201T110000
DTEND;TZID=Europe/London:20260201T120000
DTSTAMP:20260422T024903
CREATED:20260130T113658Z
LAST-MODIFIED:20260130T113658Z
UID:7789-1769943600-1769947200@firstcoleraine.org
SUMMARY:Sunday Morning Worship
DESCRIPTION:
URL:https://firstcoleraine.org/event/sunday-morning-worship-93/
LOCATION:First Coleraine Presbyterian Church\, ABBEY STREET\, COLERAINE\, LONDONDERRY\, BT52 1EX
END:VEVENT
BEGIN:VEVENT
DTSTART;TZID=Europe/London:20260130T080000
DTEND;TZID=Europe/London:20260130T200000
DTSTAMP:20260422T024903
CREATED:20260117T113635Z
LAST-MODIFIED:20260117T113635Z
UID:7767-1769760000-1769803200@firstcoleraine.org
SUMMARY:Day of Prayer and Fasting
DESCRIPTION:
URL:https://firstcoleraine.org/event/day-of-prayer-and-fasting-35/
LOCATION:First Coleraine Presbyterian Church\, ABBEY STREET\, COLERAINE\, LONDONDERRY\, BT52 1EX
END:VEVENT
BEGIN:VEVENT
DTSTART;TZID=Europe/London:20260129T100000
DTEND;TZID=Europe/London:20260129T113000
DTSTAMP:20260422T024903
CREATED:20260117T113517Z
LAST-MODIFIED:20260117T113517Z
UID:7765-1769680800-1769686200@firstcoleraine.org
SUMMARY:Toddlers Inn
DESCRIPTION:
URL:https://firstcoleraine.org/event/toddlers-inn-132/
LOCATION:First Coleraine Presbyterian Church\, ABBEY STREET\, COLERAINE\, LONDONDERRY\, BT52 1EX
END:VEVENT
BEGIN:VEVENT
DTSTART;TZID=Europe/London:20260128T200000
DTEND;TZID=Europe/London:20260128T210000
DTSTAMP:20260422T024903
CREATED:20260117T113115Z
LAST-MODIFIED:20260117T113115Z
UID:7763-1769630400-1769634000@firstcoleraine.org
SUMMARY:Life Builders
DESCRIPTION:
URL:https://firstcoleraine.org/event/life-builders-13/
LOCATION:First Coleraine Presbyterian Church\, ABBEY STREET\, COLERAINE\, LONDONDERRY\, BT52 1EX
END:VEVENT
END:VCALENDAR